BEGIN:VCALENDAR
VERSION:2.0
PRODID:-//jEvents 2.0 for Joomla//EN
CALSCALE:GREGORIAN
METHOD:PUBLISH
BEGIN:VEVENT
UID:6289368a1f3231f42e8798c08b65fbce
CATEGORIES:Freizeiten
CREATED:20200502T160455
SUMMARY:LKB Vorbereitungstreffen - via Chat
LOCATION:online
URL;VALUE=URI:https://www.eja-aalen.de/medien/kalender/icalrepeat.detail/2020/05/09/674/-
 /lkb-vorbereitungstreffen-via-chat?tmpl=component
DESCRIPTION:Das LKB Team trifft sich zur Vorbereitung der LKB 2020 im Videochat.\nStart
 : 11.00 bis ca. 17.00 Uhr, mit Pausen :-)\n \n Dieser Event wurde importier
 t von: https://www.eja-aalen.de/medien/kalender/icalrepeat.detail/2020/05/0
 9/674/-/lkb-vorbereitungstreffen-via-chat?tmpl=component (https://www.eja-a
 alen.de/medien/kalender/icalrepeat.detail/2020/05/09/674/-/lkb-vorbereitung
 streffen-via-chat?tmpl=component)
X-ALT-DESC;FMTTYPE=text/html:<p>Das LKB Team trifft sich zur Vorbereitung der LKB 2020 im Videochat.</p>
 <p>Start: 11.00 bis ca. 17.00 Uhr, mit Pausen :-)</p><p>&nbsp;</p> <a href=
 "https://www.eja-aalen.de/medien/kalender/icalrepeat.detail/2020/05/09/674/
 -/lkb-vorbereitungstreffen-via-chat?tmpl=component">Dieser Event wurde impo
 rtiert von: https://www.eja-aalen.de/medien/kalender/icalrepeat.detail/2020
 /05/09/674/-/lkb-vorbereitungstreffen-via-chat?tmpl=component</a>CONTACT:Diese E-Mail-Adresse ist vor Spambots geschützt! Zur Anzeige muss JavaScript eingeschaltet sein!
				document.getElementById('cloakea9ed6c0cc743823816e8f3cc13d1c88').innerHTML = '';
				var prefix = '&#109;a' + 'i&#108;' + '&#116;o';
				var path = 'hr' + 'ef' + '=';
				var addyea9ed6c0cc743823816e8f3cc13d1c88 = 'lkb' + '&#64;';
				addyea9ed6c0cc743823816e8f3cc13d1c88 = addyea9ed6c0cc743823816e8f3cc13d1c88 + '&#101;j&#97;-&#97;&#97;l&#101;n' + '&#46;' + 'd&#101;';
				var addy_textea9ed6c0cc743823816e8f3cc13d1c88 = 'lkb' + '&#64;' + '&#101;j&#97;-&#97;&#97;l&#101;n' + '&#46;' + 'd&#101;';document.getElementById('cloakea9ed6c0cc743823816e8f3cc13d1c88').innerHTML += '<a ' + path + '\'' + prefix + ':' + addyea9ed6c0cc743823816e8f3cc13d1c88 + '\'>'+addy_textea9ed6c0cc743823816e8f3cc13d1c88+'';
		
X-EXTRAINFO:An alle Mitarbeitenden ging eine Mail raus - mit allen Daten und Fakten, di
 e ihr so für diese Besprechung braucht.
DTSTAMP:20260424T151230
DTSTART:20200509T110000
SEQUENCE:0
TRANSP:OPAQUE
END:VEVENT
END:VCALENDAR