BEGIN:VCALENDAR
VERSION:2.0
PRODID:-//jEvents 2.0 for Joomla//EN
CALSCALE:GREGORIAN
METHOD:PUBLISH
BEGIN:VEVENT
UID:e3b92d2faaec618d0689cc47e85ee3b3
CATEGORIES:Abwesenheit Verena
CREATED:20200520T135019
SUMMARY:Teilbesetzung EJA 
URL;VALUE=URI:https://www.eja-aalen.de/medien/kalender/icalrepeat.detail/2020/07/27/681/-
 /teilbesetzung-eja?tmpl=component
DESCRIPTION: Dieser Event wurde importiert von: https://www.eja-aalen.de/medien/kalende
 r/icalrepeat.detail/2020/07/27/681/-/teilbesetzung-eja?tmpl=component
X-ALT-DESC;FMTTYPE=text/html: <a href="https://www.eja-aalen.de/medien/kalender/icalrepeat.detail/2020/0
 7/27/681/-/teilbesetzung-eja?tmpl=component">Dieser Event wurde importiert 
 von: https://www.eja-aalen.de/medien/kalender/icalrepeat.detail/2020/07/27/
 681/-/teilbesetzung-eja?tmpl=component</a>DTSTAMP:20260423T161033
DTSTART;VALUE=DATE:20200727
DTEND;VALUE=DATE:20200801
SEQUENCE:0
TRANSP:OPAQUE
END:VEVENT
END:VCALENDAR