BEGIN:VCALENDAR
VERSION:2.0
PRODID:-//jEvents 2.0 for Joomla//EN
CALSCALE:GREGORIAN
METHOD:PUBLISH
BEGIN:VEVENT
UID:a43a946a2a5c2e258e27bc6a2e1da398
CATEGORIES:Abwesenheit Lorena
CREATED:20200828T100344
SUMMARY:Abwesenheit Lorena 
URL;VALUE=URI:https://www.eja-aalen.de/medien/kalender/icalrepeat.detail/2020/08/29/713/-
 /abwesenheit-lorena?tmpl=component
DESCRIPTION: <a href="https://www.eja-aalen.de/medien/kalender/icalrepeat.detail/2020/0
 8/29/713/-/abwesenheit-lorena?tmpl=component">Dieser Event wurde importiert
  von: https://www.eja-aalen.de/medien/kalender/icalrepeat.detail/2020/08/29
 /713/-/abwesenheit-lorena?tmpl=component</a>DTSTAMP:20260425T165853
DTSTART;VALUE=DATE:20200829
DTEND;VALUE=DATE:20200913
SEQUENCE:0
TRANSP:OPAQUE
END:VEVENT
END:VCALENDAR