BEGIN:VCALENDAR
VERSION:2.0
PRODID:-//jEvents 2.0 for Joomla//EN
CALSCALE:GREGORIAN
METHOD:PUBLISH
BEGIN:VEVENT
UID:848069858af8bcfa582407ebf4840f42
CATEGORIES:Freizeiten
CREATED:20201016T110359
SUMMARY:Vorbereitung Zeltlager 
URL;VALUE=URI:https://www.eja-aalen.de/medien/kalender/icalrepeat.detail/2021/05/07/729/-
 /vorbereitung-zeltlager?tmpl=component
DESCRIPTION: Dieser Event wurde importiert von: https://www.eja-aalen.de/medien/kalende
 r/icalrepeat.detail/2021/05/07/729/-/vorbereitung-zeltlager?tmpl=component
X-ALT-DESC;FMTTYPE=text/html: <a href="https://www.eja-aalen.de/medien/kalender/icalrepeat.detail/2021/0
 5/07/729/-/vorbereitung-zeltlager?tmpl=component">Dieser Event wurde import
 iert von: https://www.eja-aalen.de/medien/kalender/icalrepeat.detail/2021/0
 5/07/729/-/vorbereitung-zeltlager?tmpl=component</a>DTSTAMP:20260423T213331
DTSTART;VALUE=DATE:20210507
DTEND;VALUE=DATE:20210510
SEQUENCE:0
TRANSP:OPAQUE
END:VEVENT
END:VCALENDAR