BEGIN:VCALENDAR
VERSION:2.0
PRODID:-//jEvents 2.0 for Joomla//EN
CALSCALE:GREGORIAN
METHOD:PUBLISH
BEGIN:VEVENT
UID:1a117740818992255057c77007c34fff
CATEGORIES:Schulungen
CREATED:20210512T125632
SUMMARY:juleica-Crashkurs (im FTH Leinroden)
URL;VALUE=URI:https://www.eja-aalen.de/medien/kalender/icalrepeat.detail/2021/06/19/788/-
 /juleica-crashkurs-im-fth-leinroden?tmpl=component
DESCRIPTION: Dieser Event wurde importiert von: https://www.eja-aalen.de/medien/kalende
 r/icalrepeat.detail/2021/06/19/788/-/juleica-crashkurs-im-fth-leinroden?tmp
 l=component
X-ALT-DESC;FMTTYPE=text/html: <a href="https://www.eja-aalen.de/medien/kalender/icalrepeat.detail/2021/0
 6/19/788/-/juleica-crashkurs-im-fth-leinroden?tmpl=component">Dieser Event 
 wurde importiert von: https://www.eja-aalen.de/medien/kalender/icalrepeat.d
 etail/2021/06/19/788/-/juleica-crashkurs-im-fth-leinroden?tmpl=component</a
 >DTSTAMP:20260423T132934
DTSTART:20210619T100000
DTEND:20210619T180000
SEQUENCE:0
TRANSP:OPAQUE
END:VEVENT
END:VCALENDAR