BEGIN:VCALENDAR
VERSION:2.0
PRODID:-//jEvents 2.0 for Joomla//EN
CALSCALE:GREGORIAN
METHOD:PUBLISH
BEGIN:VEVENT
UID:897b147b77d9593280662c036c94b8cd
CATEGORIES:Abwesenheit Lorena
CREATED:20210521T150614
SUMMARY:Teilbesetzung EJA
URL;VALUE=URI:https://www.eja-aalen.de/medien/kalender/icalrepeat.detail/2021/06/04/790/-
 /teilbesetzung-eja?tmpl=component
DESCRIPTION: Dieser Event wurde importiert von: https://www.eja-aalen.de/medien/kalende
 r/icalrepeat.detail/2021/06/04/790/-/teilbesetzung-eja?tmpl=component
X-ALT-DESC;FMTTYPE=text/html: <a href="https://www.eja-aalen.de/medien/kalender/icalrepeat.detail/2021/0
 6/04/790/-/teilbesetzung-eja?tmpl=component">Dieser Event wurde importiert 
 von: https://www.eja-aalen.de/medien/kalender/icalrepeat.detail/2021/06/04/
 790/-/teilbesetzung-eja?tmpl=component</a>DTSTAMP:20260423T012640
DTSTART:20210604T080000
DTEND;VALUE=DATE:20210617
SEQUENCE:0
TRANSP:OPAQUE
END:VEVENT
END:VCALENDAR