BEGIN:VCALENDAR
VERSION:2.0
PRODID:-//jEvents 2.0 for Joomla//EN
CALSCALE:GREGORIAN
METHOD:PUBLISH
BEGIN:VEVENT
UID:51436fae6ab4167ed55510469c186a9b
CATEGORIES:Schulungen
CREATED:20210611T133550
SUMMARY:Grundkurs 2.0 Termin VI
LOCATION:ev. Gemeindehaus in Bopfingen
URL;VALUE=URI:https://www.eja-aalen.de/medien/kalender/icalrepeat.detail/2021/07/18/794/-
 /grundkurs-2-0-termin-vi?tmpl=component
DESCRIPTION:Teil VI unseres Schulungsprogramms für junge Mitarbeitende\nSchwerpunkte in
  Theorie und Praxis u.a. zum Thema:\n- eigenes Glaubensbekenntnis\n- Andach
 ten halten\n- Glaubenspraxis als Markt der Möglichkeiten\n- Qualipass und j
 uleica\n Dieser Event wurde importiert von: https://www.eja-aalen.de/medien
 /kalender/icalrepeat.detail/2021/07/18/794/-/grundkurs-2-0-termin-vi?tmpl=c
 omponent
X-ALT-DESC;FMTTYPE=text/html:<p>Teil VI unseres Schulungsprogramms f&uuml;r junge Mitarbeitende</p><p>Sc
 hwerpunkte in Theorie und Praxis u.a. zum Thema:</p><p>- eigenes Glaubensbe
 kenntnis</p><p>- Andachten halten</p><p>- Glaubenspraxis als Markt der M&ou
 ml;glichkeiten</p><p>- Qualipass und juleica</p> <a href="https://www.eja-a
 alen.de/medien/kalender/icalrepeat.detail/2021/07/18/794/-/grundkurs-2-0-te
 rmin-vi?tmpl=component">Dieser Event wurde importiert von: https://www.eja-
 aalen.de/medien/kalender/icalrepeat.detail/2021/07/18/794/-/grundkurs-2-0-t
 ermin-vi?tmpl=component</a>CONTACT:Diese E-Mail-Adresse ist vor Spambots geschützt! Zur Anzeige muss JavaScript eingeschaltet sein!
				document.getElementById('cloakf70aaa16deaa979656beb804c255060e').innerHTML = '';
				var prefix = '&#109;a' + 'i&#108;' + '&#116;o';
				var path = 'hr' + 'ef' + '=';
				var addyf70aaa16deaa979656beb804c255060e = 'gr&#117;ndk&#117;rs' + '&#64;';
				addyf70aaa16deaa979656beb804c255060e = addyf70aaa16deaa979656beb804c255060e + '&#101;j&#97;-&#97;&#97;l&#101;n' + '&#46;' + 'd&#101;';
				var addy_textf70aaa16deaa979656beb804c255060e = 'gr&#117;ndk&#117;rs' + '&#64;' + '&#101;j&#97;-&#97;&#97;l&#101;n' + '&#46;' + 'd&#101;';document.getElementById('cloakf70aaa16deaa979656beb804c255060e').innerHTML += '<a ' + path + '\'' + prefix + ':' + addyf70aaa16deaa979656beb804c255060e + '\'>'+addy_textf70aaa16deaa979656beb804c255060e+'';
		
X-EXTRAINFO:nur mit Anmeldung\njuleica Schulungsinhalte
DTSTAMP:20260425T173320
DTSTART:20210718T130000
DTEND:20210718T180000
SEQUENCE:0
TRANSP:OPAQUE
END:VEVENT
END:VCALENDAR