BEGIN:VCALENDAR
VERSION:2.0
PRODID:-//jEvents 2.0 for Joomla//EN
CALSCALE:GREGORIAN
METHOD:PUBLISH
BEGIN:VEVENT
UID:90645ef2f4d0b77a2c36a7f0022edbc6
CATEGORIES:Jugendgottesdienste
CREATED:20211209T160955
SUMMARY:Konfi-Cup mit Jugendgottesdienst
URL;VALUE=URI:https://www.eja-aalen.de/medien/kalender/icalrepeat.detail/2022/03/11/843/-
 /konfi-cup-mit-jugendgottesdienst?tmpl=component
DESCRIPTION: Dieser Event wurde importiert von: https://www.eja-aalen.de/medien/kalende
 r/icalrepeat.detail/2022/03/11/843/-/konfi-cup-mit-jugendgottesdienst?tmpl=
 component
X-ALT-DESC;FMTTYPE=text/html: <a href="https://www.eja-aalen.de/medien/kalender/icalrepeat.detail/2022/0
 3/11/843/-/konfi-cup-mit-jugendgottesdienst?tmpl=component">Dieser Event wu
 rde importiert von: https://www.eja-aalen.de/medien/kalender/icalrepeat.det
 ail/2022/03/11/843/-/konfi-cup-mit-jugendgottesdienst?tmpl=component</a>DTSTAMP:20260426T022414
DTSTART;VALUE=DATE:20220311
DTEND;VALUE=DATE:20220312
SEQUENCE:0
TRANSP:OPAQUE
END:VEVENT
END:VCALENDAR