BEGIN:VCALENDAR
VERSION:2.0
PRODID:-//jEvents 2.0 for Joomla//EN
CALSCALE:GREGORIAN
METHOD:PUBLISH
BEGIN:VEVENT
UID:40d0737f20e00c01e559fe60b0ade499
CATEGORIES:Freizeiten
CREATED:20211209T161508
SUMMARY:Fahrt zum CHRISTIVAL 
URL;VALUE=URI:https://www.eja-aalen.de/medien/kalender/icalrepeat.detail/2022/05/25/846/-
 /fahrt-zum-christival?tmpl=component
DESCRIPTION: Dieser Event wurde importiert von: https://www.eja-aalen.de/medien/kalende
 r/icalrepeat.detail/2022/05/25/846/-/fahrt-zum-christival?tmpl=component (h
 ttps://www.eja-aalen.de/medien/kalender/icalrepeat.detail/2022/05/25/846/-/
 fahrt-zum-christival?tmpl=component)
X-ALT-DESC;FMTTYPE=text/html: <a href="https://www.eja-aalen.de/medien/kalender/icalrepeat.detail/2022/0
 5/25/846/-/fahrt-zum-christival?tmpl=component">Dieser Event wurde importie
 rt von: https://www.eja-aalen.de/medien/kalender/icalrepeat.detail/2022/05/
 25/846/-/fahrt-zum-christival?tmpl=component</a>DTSTAMP:20260422T145545
DTSTART;VALUE=DATE:20220525
DTEND;VALUE=DATE:20220530
SEQUENCE:0
TRANSP:OPAQUE
END:VEVENT
END:VCALENDAR