BEGIN:VCALENDAR
VERSION:2.0
PRODID:-//jEvents 2.0 for Joomla//EN
CALSCALE:GREGORIAN
METHOD:PUBLISH
BEGIN:VEVENT
UID:0c1e218813422b0a00df5ea12edd0fbc
CATEGORIES:Abwesenheit Lorena
CREATED:20211214T111225
SUMMARY:Teilbesetzung EJA
URL;VALUE=URI:https://www.eja-aalen.de/medien/kalender/icalrepeat.detail/2021/12/20/938/-
 /teilbesetzung-eja?tmpl=component
DESCRIPTION: Dieser Event wurde importiert von: https://www.eja-aalen.de/medien/kalende
 r/icalrepeat.detail/2021/12/20/938/-/teilbesetzung-eja?tmpl=component
X-ALT-DESC;FMTTYPE=text/html: <a href="https://www.eja-aalen.de/medien/kalender/icalrepeat.detail/2021/1
 2/20/938/-/teilbesetzung-eja?tmpl=component">Dieser Event wurde importiert 
 von: https://www.eja-aalen.de/medien/kalender/icalrepeat.detail/2021/12/20/
 938/-/teilbesetzung-eja?tmpl=component</a>DTSTAMP:20260424T085512
DTSTART;VALUE=DATE:20211220
DTEND;VALUE=DATE:20220110
SEQUENCE:0
TRANSP:OPAQUE
END:VEVENT
END:VCALENDAR