BEGIN:VCALENDAR
VERSION:2.0
PRODID:-//jEvents 2.0 for Joomla//EN
CALSCALE:GREGORIAN
METHOD:PUBLISH
BEGIN:VEVENT
UID:41989e144eecb99da7b85966f3740a50
CATEGORIES:Freizeiten
CREATED:20220113T165515
SUMMARY:LKB - 1. Vorbereitungstreffen für Mitarbeiter:innen
LOCATION:ev. Gemeindehaus in Bopfingen
URL;VALUE=URI:https://www.eja-aalen.de/medien/kalender/icalrepeat.detail/2022/02/15/948/-
 /lkb-1-vorbereitungstreffen-fuer-mitarbeiter-innen?tmpl=component
DESCRIPTION:Du hast Lust und Zeit bei der diesjährigen LKB mitzumachen?\nBist wenigsten
 s 15 Jahre alt und kannst an folgenden Tagen voll dabei sein:\n15.02.2022\n
 06. - 08.05.2022\n21.08. - 03.09.2022\nNa dann greif in die Tasten - die LK
 B Leitung freut sich mit dir in Kontakt zu treten ;-)\n Dieser Event wurde 
 importiert von: https://www.eja-aalen.de/medien/kalender/icalrepeat.detail/
 2022/02/15/948/-/lkb-1-vorbereitungstreffen-fuer-mitarbeiter-innen?tmpl=com
 ponent
X-ALT-DESC;FMTTYPE=text/html:<p>Du hast Lust und Zeit bei der diesj&auml;hrigen LKB mitzumachen?</p><p>B
 ist wenigstens 15 Jahre alt und kannst an folgenden Tagen voll dabei sein:<
 /p><p>15.02.2022</p><p>06. - 08.05.2022</p><p>21.08. - 03.09.2022</p><p>Na 
 dann greif in die Tasten - die LKB Leitung freut sich mit dir in Kontakt zu
  treten ;-)</p> <a href="https://www.eja-aalen.de/medien/kalender/icalrepea
 t.detail/2022/02/15/948/-/lkb-1-vorbereitungstreffen-fuer-mitarbeiter-innen
 ?tmpl=component">Dieser Event wurde importiert von: https://www.eja-aalen.d
 e/medien/kalender/icalrepeat.detail/2022/02/15/948/-/lkb-1-vorbereitungstre
 ffen-fuer-mitarbeiter-innen?tmpl=component</a>CONTACT:Diese E-Mail-Adresse ist vor Spambots geschützt! Zur Anzeige muss JavaScript eingeschaltet sein!
				document.getElementById('cloak37c5fa35c56cb8f513dfabdcf8b77fb1').innerHTML = '';
				var prefix = '&#109;a' + 'i&#108;' + '&#116;o';
				var path = 'hr' + 'ef' + '=';
				var addy37c5fa35c56cb8f513dfabdcf8b77fb1 = 'lkb' + '&#64;';
				addy37c5fa35c56cb8f513dfabdcf8b77fb1 = addy37c5fa35c56cb8f513dfabdcf8b77fb1 + '&#101;j&#97;-&#97;&#97;l&#101;n' + '&#46;' + 'd&#101;';
				var addy_text37c5fa35c56cb8f513dfabdcf8b77fb1 = 'lkb' + '&#64;' + '&#101;j&#97;-&#97;&#97;l&#101;n' + '&#46;' + 'd&#101;';document.getElementById('cloak37c5fa35c56cb8f513dfabdcf8b77fb1').innerHTML += '<a ' + path + '\'' + prefix + ':' + addy37c5fa35c56cb8f513dfabdcf8b77fb1 + '\'>'+addy_text37c5fa35c56cb8f513dfabdcf8b77fb1+'';
		
X-EXTRAINFO:Besuch nur mit vorheriger Anmeldung möglich.
DTSTAMP:20260426T002117
DTSTART:20220215T183000
SEQUENCE:0
TRANSP:OPAQUE
END:VEVENT
END:VCALENDAR