BEGIN:VCALENDAR
VERSION:2.0
PRODID:-//jEvents 2.0 for Joomla//EN
CALSCALE:GREGORIAN
METHOD:PUBLISH
BEGIN:VEVENT
UID:b08201b9ee855a0bfd4b4e4b0fb2f8a2
CATEGORIES:Freizeiten
CREATED:20220113T172059
SUMMARY:40 Jahre LKB - Start für Mitarbeiter:innen
LOCATION:altes Pfarrhaus Bopfingen-Trochtelfingen
URL;VALUE=URI:https://www.eja-aalen.de/medien/kalender/icalrepeat.detail/2022/08/28/955/-
 /40-jahre-lkb-start-fuer-mitarbeiter-innen?tmpl=component
DESCRIPTION:Aufbau, Vorbereitung, gemeinsames Ankommen und\nFreizeit-Sendungsgottesdien
 st\n Dieser Event wurde importiert von: https://www.eja-aalen.de/medien/kal
 ender/icalrepeat.detail/2022/08/28/955/-/40-jahre-lkb-start-fuer-mitarbeite
 r-innen?tmpl=component (https://www.eja-aalen.de/medien/kalender/icalrepeat
 .detail/2022/08/28/955/-/40-jahre-lkb-start-fuer-mitarbeiter-innen?tmpl=com
 ponent)
X-ALT-DESC;FMTTYPE=text/html:<p>Aufbau, Vorbereitung, gemeinsames Ankommen und</p><p>Freizeit-Sendungsgo
 ttesdienst</p> <a href="https://www.eja-aalen.de/medien/kalender/icalrepeat
 .detail/2022/08/28/955/-/40-jahre-lkb-start-fuer-mitarbeiter-innen?tmpl=com
 ponent">Dieser Event wurde importiert von: https://www.eja-aalen.de/medien/
 kalender/icalrepeat.detail/2022/08/28/955/-/40-jahre-lkb-start-fuer-mitarbe
 iter-innen?tmpl=component</a>CONTACT:Diese E-Mail-Adresse ist vor Spambots geschützt! Zur Anzeige muss JavaScript eingeschaltet sein!
				document.getElementById('cloak13bafc5774d2c2ad846f45e6197b1139').innerHTML = '';
				var prefix = '&#109;a' + 'i&#108;' + '&#116;o';
				var path = 'hr' + 'ef' + '=';
				var addy13bafc5774d2c2ad846f45e6197b1139 = 'lkb' + '&#64;';
				addy13bafc5774d2c2ad846f45e6197b1139 = addy13bafc5774d2c2ad846f45e6197b1139 + '&#101;j&#97;-&#97;&#97;l&#101;n' + '&#46;' + 'd&#101;';
				var addy_text13bafc5774d2c2ad846f45e6197b1139 = 'lkb' + '&#64;' + '&#101;j&#97;-&#97;&#97;l&#101;n' + '&#46;' + 'd&#101;';document.getElementById('cloak13bafc5774d2c2ad846f45e6197b1139').innerHTML += '<a ' + path + '\'' + prefix + ':' + addy13bafc5774d2c2ad846f45e6197b1139 + '\'>'+addy_text13bafc5774d2c2ad846f45e6197b1139+'';
		
DTSTAMP:20260424T004919
DTSTART;VALUE=DATE:20220828
DTEND;VALUE=DATE:20220829
SEQUENCE:0
TRANSP:OPAQUE
END:VEVENT
END:VCALENDAR