BEGIN:VCALENDAR
VERSION:2.0
PRODID:-//jEvents 2.0 for Joomla//EN
CALSCALE:GREGORIAN
METHOD:PUBLISH
BEGIN:VEVENT
UID:fee50db74da5422fec2ffaf23ca494cc
CATEGORIES:Abwesenheit Elke
CREATED:20220620T091104
SUMMARY:Teilbesetzung eja
URL;VALUE=URI:https://www.eja-aalen.de/medien/kalender/icalrepeat.detail/2022/06/20/963/-
 /teilbesetzung-eja?tmpl=component
DESCRIPTION: Dieser Event wurde importiert von: https://www.eja-aalen.de/medien/kalende
 r/icalrepeat.detail/2022/06/20/963/-/teilbesetzung-eja?tmpl=component (http
 s://www.eja-aalen.de/medien/kalender/icalrepeat.detail/2022/06/20/963/-/tei
 lbesetzung-eja?tmpl=component)
X-ALT-DESC;FMTTYPE=text/html: <a href="https://www.eja-aalen.de/medien/kalender/icalrepeat.detail/2022/0
 6/20/963/-/teilbesetzung-eja?tmpl=component">Dieser Event wurde importiert 
 von: https://www.eja-aalen.de/medien/kalender/icalrepeat.detail/2022/06/20/
 963/-/teilbesetzung-eja?tmpl=component</a>DTSTAMP:20260423T161005
DTSTART;VALUE=DATE:20220620
DTEND;VALUE=DATE:20220621
SEQUENCE:0
TRANSP:OPAQUE
END:VEVENT
END:VCALENDAR