BEGIN:VCALENDAR
VERSION:2.0
PRODID:-//jEvents 2.0 for Joomla//EN
CALSCALE:GREGORIAN
METHOD:PUBLISH
BEGIN:VEVENT
UID:9e034c7ee2f3ab138898ecd261199852
CATEGORIES:Freizeiten
CREATED:20181011T132401
SUMMARY:Landkinderbetreuung - LKB 2019
LOCATION:altes Pfarrhaus Trochtelfingen
URL;VALUE=URI:https://www.eja-aalen.de/medien/kalender/icalrepeat.detail/2019/08/26/328/-
 /landkinderbetreuung-lkb-2019?tmpl=component
DESCRIPTION:Start: am 19.08.2019 wie üblich um 13:30 Uhr (tägliche Startzeit, Ende in d
 er Regel um 18:00 Uhr)\nAbschluss: am 30.08.2019 nach dem gem. Abschlussgot
 tesdienst &amp; Essen bzw. Festle\n \n Dieser Event wurde importiert von: h
 ttps://www.eja-aalen.de/medien/kalender/icalrepeat.detail/2019/08/26/328/-/
 landkinderbetreuung-lkb-2019?tmpl=component
X-ALT-DESC;FMTTYPE=text/html:<p>Start: am 19.08.2019 wie &uuml;blich um 13:30 Uhr (t&auml;gliche Startze
 it, Ende in der Regel um 18:00 Uhr)</p><p>Abschluss: am 30.08.2019 nach dem
  gem. Abschlussgottesdienst &amp; Essen bzw. Festle</p><p>&nbsp;</p> <a hre
 f="https://www.eja-aalen.de/medien/kalender/icalrepeat.detail/2019/08/26/32
 8/-/landkinderbetreuung-lkb-2019?tmpl=component">Dieser Event wurde importi
 ert von: https://www.eja-aalen.de/medien/kalender/icalrepeat.detail/2019/08
 /26/328/-/landkinderbetreuung-lkb-2019?tmpl=component</a>CONTACT:Diese E-Mail-Adresse ist vor Spambots geschützt! Zur Anzeige muss JavaScript eingeschaltet sein!
				document.getElementById('cloakdd4d19311592d890a47dc15cda527ca7').innerHTML = '';
				var prefix = '&#109;a' + 'i&#108;' + '&#116;o';
				var path = 'hr' + 'ef' + '=';
				var addydd4d19311592d890a47dc15cda527ca7 = '&#101;j&#97;' + '&#64;';
				addydd4d19311592d890a47dc15cda527ca7 = addydd4d19311592d890a47dc15cda527ca7 + '&#101;j&#97;-&#97;&#97;l&#101;n' + '&#46;' + 'd&#101;';
				var addy_textdd4d19311592d890a47dc15cda527ca7 = '&#101;j&#97;' + '&#64;' + '&#101;j&#97;-&#97;&#97;l&#101;n' + '&#46;' + 'd&#101;';document.getElementById('cloakdd4d19311592d890a47dc15cda527ca7').innerHTML += '<a ' + path + '\'' + prefix + ':' + addydd4d19311592d890a47dc15cda527ca7 + '\'>'+addy_textdd4d19311592d890a47dc15cda527ca7+'';
		
DTSTAMP:20260425T190426
DTSTART:20190826T080000
DTEND:20190830T180000
SEQUENCE:0
TRANSP:OPAQUE
END:VEVENT
END:VCALENDAR