BEGIN:VCALENDAR
VERSION:2.0
PRODID:-//jEvents 2.0 for Joomla//EN
CALSCALE:GREGORIAN
METHOD:PUBLISH
BEGIN:VEVENT
UID:01108690dc494f2fdd8bd9131fa5f1c4
CATEGORIES:Abwesenheit Elke
CREATED:20190319T103115
SUMMARY:EJA Teilbesetzung
URL;VALUE=URI:https://www.eja-aalen.de/medien/kalender/icalrepeat.detail/2019/03/18/398/-
 /eja-teilbesetzung?tmpl=component
DESCRIPTION: Dieser Event wurde importiert von: https://www.eja-aalen.de/medien/kalende
 r/icalrepeat.detail/2019/03/18/398/-/eja-teilbesetzung?tmpl=component
X-ALT-DESC;FMTTYPE=text/html: <a href="https://www.eja-aalen.de/medien/kalender/icalrepeat.detail/2019/0
 3/18/398/-/eja-teilbesetzung?tmpl=component">Dieser Event wurde importiert 
 von: https://www.eja-aalen.de/medien/kalender/icalrepeat.detail/2019/03/18/
 398/-/eja-teilbesetzung?tmpl=component</a>DTSTAMP:20260425T141805
DTSTART:20190318T080000
DTEND:20190318T170000
SEQUENCE:0
TRANSP:OPAQUE
END:VEVENT
END:VCALENDAR