BEGIN:VCALENDAR
VERSION:2.0
PRODID:-//jEvents 2.0 for Joomla//EN
CALSCALE:GREGORIAN
METHOD:PUBLISH
BEGIN:VEVENT
UID:79b0b1fc9131aab737dc2a07445657cc
CATEGORIES:Freizeiten
CREATED:20191125T112017
SUMMARY:Landkinderbetreuung Trochtelfingen 2020
LOCATION:altes Pfarrhaus Trochtelfingen
URL;VALUE=URI:https://www.eja-aalen.de/medien/kalender/icalrepeat.detail/2020/08/24/508/-
 /landkinderbetreuung-trochtelfingen-2020?tmpl=component
DESCRIPTION:<p>Start: am 24. August 2020 wie &uuml;blich um 13:30 Uhr (t&auml;gliche St
 artzeit, Ende idR. um 18:00 Uhr)</p><p>Abschluss: am 04. September 2020 nac
 h dem gem. Abschlussgottesdienst &amp; Essen bzw. Festle</p> <a href="https
 ://www.eja-aalen.de/medien/kalender/icalrepeat.detail/2020/08/24/508/-/land
 kinderbetreuung-trochtelfingen-2020?tmpl=component">Dieser Event wurde impo
 rtiert von: https://www.eja-aalen.de/medien/kalender/icalrepeat.detail/2020
 /08/24/508/-/landkinderbetreuung-trochtelfingen-2020?tmpl=component</a>CONTACT:Diese E-Mail-Adresse ist vor Spambots geschützt! Zur Anzeige muss JavaScript eingeschaltet sein!
				document.getElementById('cloakdd72d83ea6d446c5d0c84198a0f8f6a3').innerHTML = '';
				var prefix = '&#109;a' + 'i&#108;' + '&#116;o';
				var path = 'hr' + 'ef' + '=';
				var addydd72d83ea6d446c5d0c84198a0f8f6a3 = '&#101;j&#97;' + '&#64;';
				addydd72d83ea6d446c5d0c84198a0f8f6a3 = addydd72d83ea6d446c5d0c84198a0f8f6a3 + '&#101;j&#97;-&#97;&#97;l&#101;n' + '&#46;' + 'd&#101;';
				var addy_textdd72d83ea6d446c5d0c84198a0f8f6a3 = '&#101;j&#97;' + '&#64;' + '&#101;j&#97;-&#97;&#97;l&#101;n' + '&#46;' + 'd&#101;';document.getElementById('cloakdd72d83ea6d446c5d0c84198a0f8f6a3').innerHTML += '<a ' + path + '\'' + prefix + ':' + addydd72d83ea6d446c5d0c84198a0f8f6a3 + '\'>'+addy_textdd72d83ea6d446c5d0c84198a0f8f6a3+'';
		
DTSTAMP:20260424T082852
DTSTART:20200824T080000
DTEND:20200828T180000
SEQUENCE:0
TRANSP:OPAQUE
END:VEVENT
END:VCALENDAR