BEGIN:VCALENDAR
VERSION:2.0
PRODID:-//jEvents 2.0 for Joomla//EN
CALSCALE:GREGORIAN
METHOD:PUBLISH
BEGIN:VEVENT
UID:cac9038ced416706ac08381aed073e31
CATEGORIES:Veranstaltungen
CREATED:20200503T160110
SUMMARY:rAuszeit online-Angebot für Interessierte Thema "wertvoll"
LOCATION:http://eja-aalen.de/rauszeit (http://eja-aalen.de/rauszeit)
URL;VALUE=URI:https://www.eja-aalen.de/medien/kalender/icalrepeat.detail/2020/05/17/677/-
 /rauszeit-online-angebot-fuer-interessierte-thema-wertvoll?tmpl=component
DESCRIPTION:Dich erwartet:\n- gemeinsamer Austausch über ein Thema (orientiert am Woche
 nthema: wertvoll)\n- lebendige Gespräche oder einfach nur Zuhören können\n-
  offene Runde, jederzeit ist der Ein- und Ausstieg möglich\n Dieser Event w
 urde importiert von: https://www.eja-aalen.de/medien/kalender/icalrepeat.de
 tail/2020/05/17/677/-/rauszeit-online-angebot-fuer-interessierte-thema-wert
 voll?tmpl=component
X-ALT-DESC;FMTTYPE=text/html:<div class="jev_evdt_desc"><p>Dich erwartet:</p><p>- gemeinsamer Austausch 
 &uuml;ber ein Thema (orientiert am Wochenthema: wertvoll)</p><p>- lebendige
  Gespr&auml;che oder einfach nur Zuh&ouml;ren k&ouml;nnen</p><p>- offene Ru
 nde, jederzeit ist der Ein- und Ausstieg m&ouml;glich</p></div> <a href="ht
 tps://www.eja-aalen.de/medien/kalender/icalrepeat.detail/2020/05/17/677/-/r
 auszeit-online-angebot-fuer-interessierte-thema-wertvoll?tmpl=component">Di
 eser Event wurde importiert von: https://www.eja-aalen.de/medien/kalender/i
 calrepeat.detail/2020/05/17/677/-/rauszeit-online-angebot-fuer-interessiert
 e-thema-wertvoll?tmpl=component</a>CONTACT:Diese E-Mail-Adresse ist vor Spambots geschützt! Zur Anzeige muss JavaScript eingeschaltet sein!
				document.getElementById('cloakadf6ef1c2d3696103ebbb88a41952fe7').innerHTML = '';
				var prefix = '&#109;a' + 'i&#108;' + '&#116;o';
				var path = 'hr' + 'ef' + '=';
				var addyadf6ef1c2d3696103ebbb88a41952fe7 = 'g&#101;mp&#101;rl&#101;&#105;n.v&#101;r&#101;n&#97;' + '&#64;';
				addyadf6ef1c2d3696103ebbb88a41952fe7 = addyadf6ef1c2d3696103ebbb88a41952fe7 + '&#101;j&#97;-&#97;&#97;l&#101;n' + '&#46;' + 'd&#101;';
				var addy_textadf6ef1c2d3696103ebbb88a41952fe7 = 'g&#101;mp&#101;rl&#101;&#105;n.v&#101;r&#101;n&#97;' + '&#64;' + '&#101;j&#97;-&#97;&#97;l&#101;n' + '&#46;' + 'd&#101;';document.getElementById('cloakadf6ef1c2d3696103ebbb88a41952fe7').innerHTML += '<a ' + path + '\'' + prefix + ':' + addyadf6ef1c2d3696103ebbb88a41952fe7 + '\'>'+addy_textadf6ef1c2d3696103ebbb88a41952fe7+'';
		
DTSTAMP:20260424T153938
DTSTART:20200517T160000
DTEND:20200517T163000
SEQUENCE:0
TRANSP:OPAQUE
END:VEVENT
END:VCALENDAR