BEGIN:VCALENDAR
VERSION:2.0
PRODID:-//jEvents 2.0 for Joomla//EN
CALSCALE:GREGORIAN
METHOD:PUBLISH
BEGIN:VEVENT
UID:d4209a0815e26b573617e7a15bd3ad94
CATEGORIES:Abwesenheit Elke
CREATED:20200817T102852
SUMMARY:Teilbesetzung EJA
URL;VALUE=URI:https://www.eja-aalen.de/medien/kalender/icalrepeat.detail/2020/09/17/706/-
 /teilbesetzung-eja?tmpl=component
DESCRIPTION: Dieser Event wurde importiert von: https://www.eja-aalen.de/medien/kalende
 r/icalrepeat.detail/2020/09/17/706/-/teilbesetzung-eja?tmpl=component
X-ALT-DESC;FMTTYPE=text/html: <a href="https://www.eja-aalen.de/medien/kalender/icalrepeat.detail/2020/0
 9/17/706/-/teilbesetzung-eja?tmpl=component">Dieser Event wurde importiert 
 von: https://www.eja-aalen.de/medien/kalender/icalrepeat.detail/2020/09/17/
 706/-/teilbesetzung-eja?tmpl=component</a>DTSTAMP:20260426T031935
DTSTART;VALUE=DATE:20200917
DTEND;VALUE=DATE:20200918
SEQUENCE:0
TRANSP:OPAQUE
END:VEVENT
END:VCALENDAR