BEGIN:VCALENDAR
VERSION:2.0
PRODID:-//jEvents 2.0 for Joomla//EN
CALSCALE:GREGORIAN
METHOD:PUBLISH
BEGIN:VEVENT
UID:ef9c56f83b48ceb12e5ac8cfb9cb6f7f
CATEGORIES:Sonstiges
CREATED:20211210T114926
SUMMARY:ConnectYOUng (Jugendgruppe)
LOCATION:Ev. Gemeindehaus AA 
URL;VALUE=URI:https://www.eja-aalen.de/medien/kalender/icalrepeat.detail/2022/08/02/928/-
 /connectyoung-jugendgruppe?tmpl=component
DESCRIPTION: <a href="https://www.eja-aalen.de/medien/kalender/icalrepeat.detail/2022/0
 8/02/928/-/connectyoung-jugendgruppe?tmpl=component">Dieser Event wurde imp
 ortiert von: https://www.eja-aalen.de/medien/kalender/icalrepeat.detail/202
 2/08/02/928/-/connectyoung-jugendgruppe?tmpl=component</a>CONTACT:Diese E-Mail-Adresse ist vor Spambots geschützt! Zur Anzeige muss JavaScript eingeschaltet sein!
				document.getElementById('cloakcc962b4cbe914d0d6bf4d7d767b96214').innerHTML = '';
				var prefix = '&#109;a' + 'i&#108;' + '&#116;o';
				var path = 'hr' + 'ef' + '=';
				var addycc962b4cbe914d0d6bf4d7d767b96214 = 'bl&#117;&#101;m&#101;l.&#97;l&#101;x&#97;nd&#101;r' + '&#64;';
				addycc962b4cbe914d0d6bf4d7d767b96214 = addycc962b4cbe914d0d6bf4d7d767b96214 + '&#101;j&#97;-&#97;&#97;l&#101;n' + '&#46;' + 'd&#101;';
				var addy_textcc962b4cbe914d0d6bf4d7d767b96214 = 'bl&#117;&#101;m&#101;l.&#97;l&#101;x&#97;nd&#101;r' + '&#64;' + '&#101;j&#97;-&#97;&#97;l&#101;n' + '&#46;' + 'd&#101;';document.getElementById('cloakcc962b4cbe914d0d6bf4d7d767b96214').innerHTML += '<a ' + path + '\'' + prefix + ':' + addycc962b4cbe914d0d6bf4d7d767b96214 + '\'>'+addy_textcc962b4cbe914d0d6bf4d7d767b96214+'';
		
X-EXTRAINFO:Termin in den Ferien nur nach Absprache!
DTSTAMP:20260420T102722
DTSTART:20220802T190000
DTEND:20220802T210000
SEQUENCE:0
TRANSP:OPAQUE
END:VEVENT
END:VCALENDAR