BEGIN:VCALENDAR
VERSION:2.0
PRODID:-//jEvents 2.0 for Joomla//EN
CALSCALE:GREGORIAN
METHOD:PUBLISH
BEGIN:VEVENT
UID:ef9c56f83b48ceb12e5ac8cfb9cb6f7f
CATEGORIES:Sonstiges
CREATED:20211210T114926
SUMMARY:ConnectYOUng (Jugendgruppe)
LOCATION:Ev. Gemeindehaus AA 
URL;VALUE=URI:https://www.eja-aalen.de/medien/kalender/icalrepeat.detail/2022/08/16/929/-
 /connectyoung-jugendgruppe?tmpl=component
DESCRIPTION: Dieser Event wurde importiert von: https://www.eja-aalen.de/medien/kalende
 r/icalrepeat.detail/2022/08/16/929/-/connectyoung-jugendgruppe?tmpl=compone
 nt
X-ALT-DESC;FMTTYPE=text/html: <a href="https://www.eja-aalen.de/medien/kalender/icalrepeat.detail/2022/0
 8/16/929/-/connectyoung-jugendgruppe?tmpl=component">Dieser Event wurde imp
 ortiert von: https://www.eja-aalen.de/medien/kalender/icalrepeat.detail/202
 2/08/16/929/-/connectyoung-jugendgruppe?tmpl=component</a>CONTACT:Diese E-Mail-Adresse ist vor Spambots geschützt! Zur Anzeige muss JavaScript eingeschaltet sein!
				document.getElementById('cloakd61d1726e497d22c11da49ae5206b1ec').innerHTML = '';
				var prefix = '&#109;a' + 'i&#108;' + '&#116;o';
				var path = 'hr' + 'ef' + '=';
				var addyd61d1726e497d22c11da49ae5206b1ec = 'bl&#117;&#101;m&#101;l.&#97;l&#101;x&#97;nd&#101;r' + '&#64;';
				addyd61d1726e497d22c11da49ae5206b1ec = addyd61d1726e497d22c11da49ae5206b1ec + '&#101;j&#97;-&#97;&#97;l&#101;n' + '&#46;' + 'd&#101;';
				var addy_textd61d1726e497d22c11da49ae5206b1ec = 'bl&#117;&#101;m&#101;l.&#97;l&#101;x&#97;nd&#101;r' + '&#64;' + '&#101;j&#97;-&#97;&#97;l&#101;n' + '&#46;' + 'd&#101;';document.getElementById('cloakd61d1726e497d22c11da49ae5206b1ec').innerHTML += '<a ' + path + '\'' + prefix + ':' + addyd61d1726e497d22c11da49ae5206b1ec + '\'>'+addy_textd61d1726e497d22c11da49ae5206b1ec+'';
		
X-EXTRAINFO:Termin in den Ferien nur nach Absprache!
DTSTAMP:20260424T192955
DTSTART:20220816T190000
DTEND:20220816T210000
SEQUENCE:0
TRANSP:OPAQUE
END:VEVENT
END:VCALENDAR