BEGIN:VCALENDAR
VERSION:2.0
PRODID:-//jEvents 2.0 for Joomla//EN
CALSCALE:GREGORIAN
METHOD:PUBLISH
BEGIN:VEVENT
UID:ab9a54d539b002faf2ab438b744db880
CATEGORIES:Freizeiten
CREATED:20220113T171723
SUMMARY:40 Jahre LKB - oifach schee!
LOCATION:Bopfingen-Trochtelfingen
URL;VALUE=URI:https://www.eja-aalen.de/medien/kalender/icalrepeat.detail/2022/08/29/953/-
 /40-jahre-lkb-oifach-schee?tmpl=component
DESCRIPTION:<p>40 j&auml;hriges Jubil&auml;um der LKB -</p><p>mit jeder Menge Spa&szlig
 ;, Bastelei, guter Laune, Spielen, Singen, Tanzen, Suchen, Finden, Springen
 ...</p><p>und dem ultimativen Biblischen Erlebnisprogramm, das uns durch di
 e Freizeit f&uuml;hrt!</p><p>&nbsp;</p> <a href="https://www.eja-aalen.de/m
 edien/kalender/icalrepeat.detail/2022/08/29/953/-/40-jahre-lkb-oifach-schee
 ?tmpl=component">Dieser Event wurde importiert von: https://www.eja-aalen.d
 e/medien/kalender/icalrepeat.detail/2022/08/29/953/-/40-jahre-lkb-oifach-sc
 hee?tmpl=component</a>CONTACT:Diese E-Mail-Adresse ist vor Spambots geschützt! Zur Anzeige muss JavaScript eingeschaltet sein!
				document.getElementById('cloakcf53ec6162c79e27c5f3e49d7b8a97d9').innerHTML = '';
				var prefix = '&#109;a' + 'i&#108;' + '&#116;o';
				var path = 'hr' + 'ef' + '=';
				var addycf53ec6162c79e27c5f3e49d7b8a97d9 = 'lkb' + '&#64;';
				addycf53ec6162c79e27c5f3e49d7b8a97d9 = addycf53ec6162c79e27c5f3e49d7b8a97d9 + '&#101;j&#97;-&#97;&#97;l&#101;n' + '&#46;' + 'd&#101;';
				var addy_textcf53ec6162c79e27c5f3e49d7b8a97d9 = 'lkb' + '&#64;' + '&#101;j&#97;-&#97;&#97;l&#101;n' + '&#46;' + 'd&#101;';document.getElementById('cloakcf53ec6162c79e27c5f3e49d7b8a97d9').innerHTML += '<a ' + path + '\'' + prefix + ':' + addycf53ec6162c79e27c5f3e49d7b8a97d9 + '\'>'+addy_textcf53ec6162c79e27c5f3e49d7b8a97d9+'';
		
X-EXTRAINFO:Diese E-Mail-Adresse ist vor Spambots geschützt! Zur Anzeige muss JavaScrip
 t eingeschaltet sein!
				document.getElementById('cloak2e549f418059a1fa791
 6ac9be201fdd0').innerHTML = '';
				var prefix = '&#109;a' + 'i&#108;' + '&
 #116;o';
				var path = 'hr' + 'ef' + '=';
				var addy2e549f418059a1fa7916
 ac9be201fdd0 = '&#101;j&#97;' + '&#64;';
				addy2e549f418059a1fa7916ac9be2
 01fdd0 = addy2e549f418059a1fa7916ac9be201fdd0 + '&#101;j&#97;-&#97;&#97;l&#
 101;n' + '&#46;' + 'd&#101;';
				var addy_text2e549f418059a1fa7916ac9be201
 fdd0 = '&#101;j&#97;' + '&#64;' + '&#101;j&#97;-&#97;&#97;l&#101;n' + '&#46
 ;' + 'd&#101;';document.getElementById('cloak2e549f418059a1fa7916ac9be201fd
 d0').innerHTML += '<a ' + path + '\'' + prefix + ':' + addy2e549f418059a1fa
 7916ac9be201fdd0 + '\'>'+addy_text2e549f418059a1fa7916ac9be201fdd0+'';
		\n
 nur mit vorheriger Anmeldung unter \nwww.eja-aalen.de möglich
DTSTAMP:20260424T171931
DTSTART;VALUE=DATE:20220829
DTEND;VALUE=DATE:20220903
SEQUENCE:0
TRANSP:OPAQUE
END:VEVENT
END:VCALENDAR